BEGIN:VCALENDAR
VERSION:2.0
PRODID:-//Oxford Observatory//NONSGML kigkonsult.se iCalcreator 2.41.92//
CALSCALE:GREGORIAN
METHOD:PUBLISH
UID:37666365-6330-4730-a162-386165633032
X-WR-CALNAME:iCagenda
X-WR-CALDESC:Event Management Extension for Joomla!
X-WR-RELCALID:3E26604A-50F4-4449-8B3E-E4F4932D05B5
X-WR-TIMEZONE:Pacific/Auckland
BEGIN:VTIMEZONE
TZID:Pacific/Auckland
TZUNTIL:20280401T140000Z
BEGIN:STANDARD
TZNAME:NZST
DTSTART:20260405T030000
TZOFFSETFROM:+1300
TZOFFSETTO:+1200
RDATE:20270404T030000
END:STANDARD
BEGIN:DAYLIGHT
TZNAME:NZDT
DTSTART:20250928T020000
TZOFFSETFROM:+1200
TZOFFSETTO:+1300
RDATE:20260927T020000
RDATE:20270926T020000
END:DAYLIGHT
END:VTIMEZONE
BEGIN:VEVENT
UID:37363936-3530-4465-b437-366265623165
DTSTAMP:20260423T155658Z
CATEGORIES:Upcoming Open Nights
CLASS:PUBLIC
DESCRIPTION:
DTSTART:20260425T083000Z
DTEND:20260425T093000Z
GEO:00;0
LOCATION:Oxford Observatory
ORGANIZER;CN=:mailto:oxford.observatory@gmail.com
SEQUENCE:1
SUMMARY:25 April 2026 - EVENING Second Time Slot ($15adult/$10child)
TRANSP:OPAQUE
URL:https://oxford.ngawhetu.nz/index.php/open-nights-and-sessions/open-nigh
 t-bookings/201-25-april-2026-second-time-slot
END:VEVENT
END:VCALENDAR
